BEGIN:VCALENDAR
VERSION:2.0
PRODID:-//ACG//Events//EN
CALSCALE:GREGORIAN
METHOD:PUBLISH
BEGIN:VTIMEZONE
TZID:America/Detroit
BEGIN:STANDARD
DTSTART:19700101T060000
TZOFFSETTO:-0500
TZOFFSETFROM:-0500
END:STANDARD
END:VTIMEZONE
BEGIN:VEVENT
UID:147611
DTSTART;TZID=America/Detroit:20251106T173033
DTEND;TZID=America/Detroit:20251106T200000
STATUS:CONFIRMED
SUMMARY:Finance Feud: A night of trivia\, networking and fun!
DESCRIPTION:
LOCATION:Embassy Suites\nEmbassy Suites\n710 Monore Avenue\, NW\nGrand
  Rapids\\, MI 49504
URL:https://www.acg.org/wmich/events/finance-feud-night-trivia-network
 ing-and-fun
DTSTAMP:20260420T185926Z
END:VEVENT
END:VCALENDAR
