BEGIN:VCALENDAR
VERSION:2.0
PRODID:-//ACG//Events//EN
CALSCALE:GREGORIAN
METHOD:PUBLISH
BEGIN:VTIMEZONE
TZID:Europe/Madrid
BEGIN:STANDARD
DTSTART:19700101T060000
TZOFFSETTO:+0100
TZOFFSETFROM:+0100
END:STANDARD
END:VTIMEZONE
BEGIN:VEVENT
UID:147624
DTSTART;TZID=Europe/Madrid:20251119T140000
DTEND;TZID=Europe/Madrid:20251119T160000
STATUS:CONFIRMED
SUMMARY:Inspiring lunches with Camino Quiroga
DESCRIPTION:
LOCATION:Restaurant Windsor\nCírculo Ecuestre\nCórcega\, 268
URL:https://www.acg.org/spain/events/inspiring-lunches-camino-quiroga
DTSTAMP:20260420T165858Z
END:VEVENT
END:VCALENDAR
