BEGIN:VCALENDAR
VERSION:2.0
PRODID:-//ACG//Events//EN
CALSCALE:GREGORIAN
METHOD:PUBLISH
BEGIN:VTIMEZONE
TZID:America/New_York
BEGIN:STANDARD
DTSTART:19701025T060000
TZOFFSETTO:-0500
TZOFFSETFROM:-0400
RRULE:FREQ=YEARLY;BYMONTH=11;BYDAY=1SU
END:STANDARD
BEGIN:DAYLIGHT
DTSTART:19700426T070000
TZOFFSETTO:-0400
TZOFFSETFROM:-0500
RRULE:FREQ=YEARLY;BYMONTH=3;BYDAY=2SU
END:DAYLIGHT
END:VTIMEZONE
BEGIN:VEVENT
UID:2026-ACG-S-ECONOMIC-OUTLOOK-MONTHLY-BREAKFAST-MEETING-FEATURING-ER
 IC-WINOGRAD-DIRECTOR-DEVELOPED-MARKET-ECONOMIC-RESEARCH-ALLIANCE-BERNS
 TEIN
DTSTART;TZID=America/New_York:20260107T073049
DTEND;TZID=America/New_York:20260107T093049
STATUS:CONFIRMED
SUMMARY:2026 Economic Outlook with Eric Winograd
DESCRIPTION:
LOCATION:LMI\n7940 Jones Branch Drive\nTysons\\, VA 22102
URL:https://www.acg.org/national-capital/events/2026-economic-outlook-
 eric-winograd
DTSTAMP:20260420T125647Z
END:VEVENT
END:VCALENDAR
