BEGIN:VCALENDAR
VERSION:2.0
PRODID:-//ACG//Events//EN
CALSCALE:GREGORIAN
METHOD:PUBLISH
BEGIN:VTIMEZONE
TZID:America/New_York
BEGIN:STANDARD
DTSTART:19701025T060000
TZOFFSETTO:-0500
TZOFFSETFROM:-0400
RRULE:FREQ=YEARLY;BYMONTH=11;BYDAY=1SU
END:STANDARD
BEGIN:DAYLIGHT
DTSTART:19700426T070000
TZOFFSETTO:-0400
TZOFFSETFROM:-0500
RRULE:FREQ=YEARLY;BYMONTH=3;BYDAY=2SU
END:DAYLIGHT
END:VTIMEZONE
BEGIN:VEVENT
UID:ACG-ORLANDO-MEMBERS-ONLY-MEETUP-NOVEMBER-2025
DTSTART;TZID=America/New_York:20251112T090025
DTEND;TZID=America/New_York:20251112T100043
STATUS:CONFIRMED
SUMMARY:SOLD OUT - ACG Orlando Members-Only Meetup (November 2025)
DESCRIPTION:
LOCATION:TBA Orlando Location\n
URL:https://www.acg.org/orlando/events/sold-out-acg-orlando-members-on
 ly-meetup-november-2025
DTSTAMP:20260420T183931Z
END:VEVENT
END:VCALENDAR
