BEGIN:VCALENDAR
VERSION:2.0
PRODID:-//ACG//Events//EN
CALSCALE:GREGORIAN
METHOD:PUBLISH
BEGIN:VTIMEZONE
TZID:America/Phoenix
BEGIN:STANDARD
DTSTART:19700101T060000
TZOFFSETTO:-0700
TZOFFSETFROM:-0700
END:STANDARD
END:VTIMEZONE
BEGIN:VEVENT
UID:ACG-ARIZONA-M-A-OKTOBERFEST-2025
DTSTART;TZID=America/Phoenix:20251021T170037
DTEND;TZID=America/Phoenix:20251021T193033
STATUS:CONFIRMED
SUMMARY:ACG Arizona M&A Oktoberfest 2025
DESCRIPTION:
LOCATION:Brat Haus\n3622 North Scottsdale Road\nScottsdale\\, AZ 85251
URL:https://www.acg.org/arizona/events/acg-arizona-ma-oktoberfest-2025
DTSTAMP:20260420T224752Z
END:VEVENT
END:VCALENDAR
