BEGIN:VCALENDAR
VERSION:2.0
PRODID:-//ACG//Events//EN
CALSCALE:GREGORIAN
METHOD:PUBLISH
BEGIN:VTIMEZONE
TZID:Europe/Madrid
BEGIN:STANDARD
DTSTART:19700101T060000
TZOFFSETTO:+0100
TZOFFSETFROM:+0100
END:STANDARD
END:VTIMEZONE
BEGIN:VEVENT
UID:147752
DTSTART;TZID=Europe/Madrid:20251022T140000
DTEND;TZID=Europe/Madrid:20251022T160000
STATUS:CONFIRMED
SUMMARY:Almuerzo con Rosa Tous
DESCRIPTION:
URL:https://www.acg.org/spain/events/almuerzo-con-rosa-tous
DTSTAMP:20260420T224752Z
END:VEVENT
END:VCALENDAR
