BEGIN:VCALENDAR
VERSION:2.0
PRODID:-//ACG//Events//EN
CALSCALE:GREGORIAN
METHOD:PUBLISH
BEGIN:VTIMEZONE
TZID:America/New_York
BEGIN:STANDARD
DTSTART:19701025T060000
TZOFFSETTO:-0500
TZOFFSETFROM:-0400
RRULE:FREQ=YEARLY;BYMONTH=11;BYDAY=1SU
END:STANDARD
BEGIN:DAYLIGHT
DTSTART:19700426T070000
TZOFFSETTO:-0400
TZOFFSETFROM:-0500
RRULE:FREQ=YEARLY;BYMONTH=3;BYDAY=2SU
END:DAYLIGHT
END:VTIMEZONE
BEGIN:VEVENT
UID:YOUNG-ACG-FIRESIDE-CHAT-WITH-COLIN-SOUZA-CFO-WORTHINGTON-ENTERPRISES
DTSTART;TZID=America/New_York:20251106T160047
DTEND;TZID=America/New_York:20251106T180047
STATUS:CONFIRMED
SUMMARY:Young ACG Fireside Chat with Colin Souza\, CFO\, Worthington E
 nterprises
DESCRIPTION:
LOCATION:Understory\n2571 Neil Avenue\nColumbus\\, OH 43202
URL:https://www.acg.org/columbus/events/young-acg-fireside-chat-colin-
 souza-cfo-worthington-enterprises
DTSTAMP:20260420T190036Z
END:VEVENT
END:VCALENDAR
