BEGIN:VCALENDAR
VERSION:2.0
PRODID:-//ACG//Events//EN
CALSCALE:GREGORIAN
METHOD:PUBLISH
BEGIN:VTIMEZONE
TZID:America/New_York
BEGIN:STANDARD
DTSTART:19701025T060000
TZOFFSETTO:-0500
TZOFFSETFROM:-0400
RRULE:FREQ=YEARLY;BYMONTH=11;BYDAY=1SU
END:STANDARD
BEGIN:DAYLIGHT
DTSTART:19700426T070000
TZOFFSETTO:-0400
TZOFFSETFROM:-0500
RRULE:FREQ=YEARLY;BYMONTH=3;BYDAY=2SU
END:DAYLIGHT
END:VTIMEZONE
BEGIN:VEVENT
UID:2026-ACG-BOSTON-CONNECTING-THE-NEXT-GENERATION-TO-M-A-MEMBERS-ONLY
DTSTART;TZID=America/New_York:20260109T090014
DTEND;TZID=America/New_York:20260109T110002
STATUS:CONFIRMED
SUMMARY:2026 ACG Boston: Connecting the Next Generation to M&A (Member
 s Only)
DESCRIPTION:
LOCATION:Brae Burn Country Club\n326 Fuller Street\nNewton\\, MA 02465
URL:https://www.acg.org/boston/events/2026-acg-boston-connecting-next-
 generation-ma-members-only
DTSTAMP:20260420T111543Z
END:VEVENT
END:VCALENDAR
