BEGIN:VCALENDAR
VERSION:2.0
PRODID:-//ACG//Events//EN
CALSCALE:GREGORIAN
METHOD:PUBLISH
BEGIN:VTIMEZONE
TZID:America/New_York
BEGIN:STANDARD
DTSTART:19701025T060000
TZOFFSETTO:-0500
TZOFFSETFROM:-0400
RRULE:FREQ=YEARLY;BYMONTH=11;BYDAY=1SU
END:STANDARD
BEGIN:DAYLIGHT
DTSTART:19700426T070000
TZOFFSETTO:-0400
TZOFFSETFROM:-0500
RRULE:FREQ=YEARLY;BYMONTH=3;BYDAY=2SU
END:DAYLIGHT
END:VTIMEZONE
BEGIN:VEVENT
UID:ACG-NJ-MEMBER-FORUM-HOSTED-BY-VIPIN-SINGH-OCTOBER
DTSTART;TZID=America/New_York:20251029T120044
DTEND;TZID=America/New_York:20251029T130044
STATUS:CONFIRMED
SUMMARY:ACG NJ Member Forum hosted by Vipin Singh | October 29
DESCRIPTION:
LOCATION:Virtual - ACG New Jersey\n
URL:https://www.acg.org/newjersey/events/acg-nj-member-forum-hosted-vi
 pin-singh-october-29
DTSTAMP:20260420T205927Z
END:VEVENT
END:VCALENDAR
