BEGIN:VCALENDAR
VERSION:2.0
PRODID:-//ACG//Events//EN
CALSCALE:GREGORIAN
METHOD:PUBLISH
BEGIN:VTIMEZONE
TZID:America/New_York
BEGIN:STANDARD
DTSTART:19701025T060000
TZOFFSETTO:-0500
TZOFFSETFROM:-0400
RRULE:FREQ=YEARLY;BYMONTH=11;BYDAY=1SU
END:STANDARD
BEGIN:DAYLIGHT
DTSTART:19700426T070000
TZOFFSETTO:-0400
TZOFFSETFROM:-0500
RRULE:FREQ=YEARLY;BYMONTH=3;BYDAY=2SU
END:DAYLIGHT
END:VTIMEZONE
BEGIN:VEVENT
UID:2025-ACG-BOSTON-WOMEN-OF-LEADERSHIP-FALL-NETWORKING
DTSTART;TZID=America/New_York:20251027T170029
DTEND;TZID=America/New_York:20251027T190027
STATUS:CONFIRMED
SUMMARY:2025 ACG Boston: Women of Leadership Fall Networking
DESCRIPTION:
LOCATION:Offices of Morgan\, Lewis & Bockius LLP\, Floor 13\n1 Federal
  Street\nBoston\\, MA 02110
URL:https://www.acg.org/boston/events/2025-acg-boston-women-leadership
 -fall-networking
DTSTAMP:20260420T224820Z
END:VEVENT
END:VCALENDAR
