BEGIN:VCALENDAR
VERSION:2.0
PRODID:-//ACG//Events//EN
CALSCALE:GREGORIAN
METHOD:PUBLISH
BEGIN:VTIMEZONE
TZID:America/Los_Angeles
BEGIN:STANDARD
DTSTART:19701025T090000
TZOFFSETTO:-0800
TZOFFSETFROM:-0700
RRULE:FREQ=YEARLY;BYMONTH=11;BYDAY=1SU
END:STANDARD
BEGIN:DAYLIGHT
DTSTART:19700426T100000
TZOFFSETTO:-0700
TZOFFSETFROM:-0800
RRULE:FREQ=YEARLY;BYMONTH=3;BYDAY=2SU
END:DAYLIGHT
END:VTIMEZONE
BEGIN:VEVENT
UID:ACG-SEA-I-MAKERS-FIRESIDE-HIGH-TEA
DTSTART;TZID=America/Los_Angeles:20251205T123000
DTEND;TZID=America/Los_Angeles:20251205T143008
STATUS:CONFIRMED
SUMMARY:ACG SEA I MAKERS Fireside High Tea
DESCRIPTION:
LOCATION:Hotel Sorrento - Fireside Lounge\n900 Madison Street\nSeattle
 \\, WA 98104
URL:https://www.acg.org/seattle/events/acg-sea-i-makers-fireside-high-tea
DTSTAMP:20260420T143012Z
END:VEVENT
END:VCALENDAR
