BEGIN:VCALENDAR
VERSION:2.0
PRODID:-//ACG//Events//EN
CALSCALE:GREGORIAN
METHOD:PUBLISH
BEGIN:VTIMEZONE
TZID:America/New_York
BEGIN:STANDARD
DTSTART:19701025T060000
TZOFFSETTO:-0500
TZOFFSETFROM:-0400
RRULE:FREQ=YEARLY;BYMONTH=11;BYDAY=1SU
END:STANDARD
BEGIN:DAYLIGHT
DTSTART:19700426T070000
TZOFFSETTO:-0400
TZOFFSETFROM:-0500
RRULE:FREQ=YEARLY;BYMONTH=3;BYDAY=2SU
END:DAYLIGHT
END:VTIMEZONE
BEGIN:VEVENT
UID:ACG-TAMPA-BAY-EMERGING-PROFESSIONALS-FRIENDSGIVING
DTSTART;TZID=America/New_York:20251113T173044
DTEND;TZID=America/New_York:20251113T193044
STATUS:CONFIRMED
SUMMARY:ACG Tampa Bay Emerging Professionals Friendsgiving
DESCRIPTION:
LOCATION:Walk-Ons Sports Bistreaux\n1140 Gramercy Lane\nTampa\\, FL 33607
URL:https://www.acg.org/tampabay/events/acg-tampa-bay-emerging-profess
 ionals-friendsgiving
DTSTAMP:20260420T184141Z
END:VEVENT
END:VCALENDAR
