BEGIN:VCALENDAR
VERSION:2.0
PRODID:-//ACG//Events//EN
CALSCALE:GREGORIAN
METHOD:PUBLISH
BEGIN:VTIMEZONE
TZID:US/Mountain
BEGIN:STANDARD
DTSTART:19701025T080000
TZOFFSETTO:-0700
TZOFFSETFROM:-0600
RRULE:FREQ=YEARLY;BYMONTH=11;BYDAY=1SU
END:STANDARD
BEGIN:DAYLIGHT
DTSTART:19700426T090000
TZOFFSETTO:-0600
TZOFFSETFROM:-0700
RRULE:FREQ=YEARLY;BYMONTH=3;BYDAY=2SU
END:DAYLIGHT
END:VTIMEZONE
BEGIN:VEVENT
UID:YOUNG-ACG-UTAH-SPEED-NETWORKING-2025
DTSTART;TZID=US/Mountain:20251106T133013
DTEND;TZID=US/Mountain:20251106T150025
STATUS:CONFIRMED
SUMMARY:Young ACG Utah Speed Networking 2025
DESCRIPTION:
LOCATION:Keystone National Group\n60 South Temple\nSalt Lake City\\, U
 T 84111
URL:https://www.acg.org/utah/events/young-acg-utah-speed-networking-2025
DTSTAMP:20260420T190029Z
END:VEVENT
END:VCALENDAR
