BEGIN:VCALENDAR
VERSION:2.0
PRODID:-//ACG//Events//EN
CALSCALE:GREGORIAN
METHOD:PUBLISH
BEGIN:VTIMEZONE
TZID:Europe/Madrid
BEGIN:STANDARD
DTSTART:19700101T060000
TZOFFSETTO:+0100
TZOFFSETFROM:+0100
END:STANDARD
END:VTIMEZONE
BEGIN:VEVENT
UID:147885
DTSTART;TZID=Europe/Madrid:20251112T140000
DTEND;TZID=Europe/Madrid:20251112T160000
STATUS:CONFIRMED
SUMMARY:Conferencia de Enrico Letta
DESCRIPTION:
LOCATION:Oficinas Harmon\nHarmon\nSerrano 57\nMadrid\\, Madrid 08031
URL:https://www.acg.org/spain/events/conferencia-de-enrico-letta
DTSTAMP:20260420T203707Z
END:VEVENT
END:VCALENDAR
