BEGIN:VCALENDAR
VERSION:2.0
PRODID:-//ACG//Events//EN
CALSCALE:GREGORIAN
METHOD:PUBLISH
BEGIN:VTIMEZONE
TZID:America/Edmonton
BEGIN:STANDARD
DTSTART:19700101T060000
TZOFFSETTO:-0700
TZOFFSETFROM:-0700
END:STANDARD
END:VTIMEZONE
BEGIN:VEVENT
UID:147892
DTSTART;TZID=America/Edmonton:20251103T163000
DTEND;TZID=America/Edmonton:20251103T190000
STATUS:CONFIRMED
SUMMARY:ACG Edmonton & FEI Edmonton Collaborative Event 2025
DESCRIPTION:
LOCATION:Royal Glenora Club\nRoyal Glenora Club\n11160 Rivervalley Roa
 d NW\nEdmonton\\, AB T5J 2G7
URL:https://www.acg.org/edmonton/events/acg-edmonton-fei-edmonton-coll
 aborative-event-2025
DTSTAMP:20260420T211838Z
END:VEVENT
END:VCALENDAR
