BEGIN:VCALENDAR
VERSION:2.0
PRODID:-//ACG//Events//EN
CALSCALE:GREGORIAN
METHOD:PUBLISH
BEGIN:VTIMEZONE
TZID:America/New_York
BEGIN:STANDARD
DTSTART:19701025T060000
TZOFFSETTO:-0500
TZOFFSETFROM:-0400
RRULE:FREQ=YEARLY;BYMONTH=11;BYDAY=1SU
END:STANDARD
BEGIN:DAYLIGHT
DTSTART:19700426T070000
TZOFFSETTO:-0400
TZOFFSETFROM:-0500
RRULE:FREQ=YEARLY;BYMONTH=3;BYDAY=2SU
END:DAYLIGHT
END:VTIMEZONE
BEGIN:VEVENT
UID:2025-ACG-COLUMBUS-NOVEMBER-BREAKFAST-THE-AI-ADVANTAGE-IN-M-A
DTSTART;TZID=America/New_York:20251119T073004
DTEND;TZID=America/New_York:20251119T090004
STATUS:CONFIRMED
SUMMARY:2025 ACG Columbus November Breakfast: The AI Advantage in M&A
DESCRIPTION:
LOCATION:Marriott Columbus OSU\n3100 Olentangy River Road\nColumbus\\,
  OH 43202
URL:https://www.acg.org/columbus/events/2025-acg-columbus-november-bre
 akfast-ai-advantage-ma
DTSTAMP:20260420T165821Z
END:VEVENT
END:VCALENDAR
