BEGIN:VCALENDAR
VERSION:2.0
PRODID:-//ACG//Events//EN
CALSCALE:GREGORIAN
METHOD:PUBLISH
BEGIN:VTIMEZONE
TZID:America/Los_Angeles
BEGIN:STANDARD
DTSTART:19701025T090000
TZOFFSETTO:-0800
TZOFFSETFROM:-0700
RRULE:FREQ=YEARLY;BYMONTH=11;BYDAY=1SU
END:STANDARD
BEGIN:DAYLIGHT
DTSTART:19700426T100000
TZOFFSETTO:-0700
TZOFFSETFROM:-0800
RRULE:FREQ=YEARLY;BYMONTH=3;BYDAY=2SU
END:DAYLIGHT
END:VTIMEZONE
BEGIN:VEVENT
UID:ACG-LOS-ANGELES-PRIVATE-EQUITY-ROUNDTABLE-POKER-TOURNAMENT-2026
DTSTART;TZID=America/Los_Angeles:20260319T160058
DTEND;TZID=America/Los_Angeles:20260319T213058
STATUS:CONFIRMED
SUMMARY:ACG Los Angeles | Private Equity Roundtable Poker Tournament\, 2026
DESCRIPTION:
LOCATION:The London West Hollywood at Beverly Hills\n1020 North San Vi
 cente Boulevard\nWest Hollywood\\, CA 90069
URL:https://www.acg.org/los-angeles/events/acg-los-angeles-private-equ
 ity-roundtable-poker-tournament-2026
DTSTAMP:20260423T163204Z
END:VEVENT
END:VCALENDAR
