BEGIN:VCALENDAR
VERSION:2.0
PRODID:-//ACG//Events//EN
CALSCALE:GREGORIAN
METHOD:PUBLISH
BEGIN:VTIMEZONE
TZID:America/Indiana/Indianapolis
BEGIN:STANDARD
DTSTART:19701025T060000
TZOFFSETTO:-0500
TZOFFSETFROM:-0400
RRULE:FREQ=YEARLY;BYMONTH=11;BYDAY=1SU
END:STANDARD
BEGIN:DAYLIGHT
DTSTART:19700426T070000
TZOFFSETTO:-0400
TZOFFSETFROM:-0500
RRULE:FREQ=YEARLY;BYMONTH=3;BYDAY=2SU
END:DAYLIGHT
END:VTIMEZONE
BEGIN:VEVENT
UID:147927
DTSTART;TZID=America/Indiana/Indianapolis:20251119T160000
DTEND;TZID=America/Indiana/Indianapolis:20251119T180000
STATUS:CONFIRMED
SUMMARY:Navigating the M&A Debt Landscape
DESCRIPTION:
LOCATION:WheelHouse Social Club Garage 10814 Creek Way Zionsville\, IN
  46077\n
URL:https://www.acg.org/indiana/events/navigating-ma-debt-landscape
DTSTAMP:20260420T181906Z
END:VEVENT
END:VCALENDAR
