BEGIN:VCALENDAR
VERSION:2.0
PRODID:-//ACG//Events//EN
CALSCALE:GREGORIAN
METHOD:PUBLISH
BEGIN:VTIMEZONE
TZID:America/New_York
BEGIN:STANDARD
DTSTART:19701025T060000
TZOFFSETTO:-0500
TZOFFSETFROM:-0400
RRULE:FREQ=YEARLY;BYMONTH=11;BYDAY=1SU
END:STANDARD
BEGIN:DAYLIGHT
DTSTART:19700426T070000
TZOFFSETTO:-0400
TZOFFSETFROM:-0500
RRULE:FREQ=YEARLY;BYMONTH=3;BYDAY=2SU
END:DAYLIGHT
END:VTIMEZONE
BEGIN:VEVENT
UID:LUNCH-LEARN-NEXTGEN-VOICES-IN-CAREER-COACHING
DTSTART;TZID=America/New_York:20251030T120040
DTEND;TZID=America/New_York:20251030T130040
STATUS:CONFIRMED
SUMMARY:Lunch & Learn: NextGen Voices in Career Coaching
DESCRIPTION:
LOCATION:Virtual\n
URL:https://www.acg.org/national-capital/events/lunch-learn-nextgen-vo
 ices-career-coaching
DTSTAMP:20260420T205849Z
END:VEVENT
END:VCALENDAR
