BEGIN:VCALENDAR
VERSION:2.0
PRODID:-//ACG//Events//EN
CALSCALE:GREGORIAN
METHOD:PUBLISH
BEGIN:VTIMEZONE
TZID:America/New_York
BEGIN:STANDARD
DTSTART:19701025T060000
TZOFFSETTO:-0500
TZOFFSETFROM:-0400
RRULE:FREQ=YEARLY;BYMONTH=11;BYDAY=1SU
END:STANDARD
BEGIN:DAYLIGHT
DTSTART:19700426T070000
TZOFFSETTO:-0400
TZOFFSETFROM:-0500
RRULE:FREQ=YEARLY;BYMONTH=3;BYDAY=2SU
END:DAYLIGHT
END:VTIMEZONE
BEGIN:VEVENT
UID:TEE-UP-TOGETHER-ACG-NEXTGEN-AND-RSM-US-LLP
DTSTART;TZID=America/New_York:20251119T173001
DTEND;TZID=America/New_York:20251119T203001
STATUS:CONFIRMED
SUMMARY:Tee-Up Together - ACG NextGen and RSM US LLP
DESCRIPTION:
LOCATION:Puttery DC\n800 F Street Northwest\nWashington\\, DC 20004
URL:https://www.acg.org/national-capital/events/tee-together-acg-nextg
 en-and-rsm-us-llp
DTSTAMP:20260420T183056Z
END:VEVENT
END:VCALENDAR
