BEGIN:VCALENDAR
VERSION:2.0
PRODID:-//ACG//Events//EN
CALSCALE:GREGORIAN
METHOD:PUBLISH
BEGIN:VTIMEZONE
TZID:America/Los_Angeles
BEGIN:STANDARD
DTSTART:19701025T090000
TZOFFSETTO:-0800
TZOFFSETFROM:-0700
RRULE:FREQ=YEARLY;BYMONTH=11;BYDAY=1SU
END:STANDARD
BEGIN:DAYLIGHT
DTSTART:19700426T100000
TZOFFSETTO:-0700
TZOFFSETFROM:-0800
RRULE:FREQ=YEARLY;BYMONTH=3;BYDAY=2SU
END:DAYLIGHT
END:VTIMEZONE
BEGIN:VEVENT
UID:2025-Y20-SEA-RELENTLESS-CHANGE-AND-TRANSFORMATIVE-AI
DTSTART;TZID=America/Los_Angeles:20251119T073034
DTEND;TZID=America/Los_Angeles:20251119T093015
STATUS:CONFIRMED
SUMMARY:2025 Y20 SEA | Leading Through Change + AI with Mark Briggs\, 
 Executive Coach & AI Strategist
DESCRIPTION:
LOCATION:Arbor Lounge\, second floor of the US Bank Center building\n1
 420 5th Avenue\nSeattle\\, WA 98101
URL:https://www.acg.org/seattle/events/2025-y20-sea-leading-through-ch
 ange-ai-mark-briggs-executive-coach-ai-strategist
DTSTAMP:20260420T190036Z
END:VEVENT
END:VCALENDAR
