BEGIN:VCALENDAR
VERSION:2.0
PRODID:-//ACG//Events//EN
CALSCALE:GREGORIAN
METHOD:PUBLISH
BEGIN:VTIMEZONE
TZID:America/Los_Angeles
BEGIN:STANDARD
DTSTART:19701025T090000
TZOFFSETTO:-0800
TZOFFSETFROM:-0700
RRULE:FREQ=YEARLY;BYMONTH=11;BYDAY=1SU
END:STANDARD
BEGIN:DAYLIGHT
DTSTART:19700426T100000
TZOFFSETTO:-0700
TZOFFSETFROM:-0800
RRULE:FREQ=YEARLY;BYMONTH=3;BYDAY=2SU
END:DAYLIGHT
END:VTIMEZONE
BEGIN:VEVENT
UID:ACG-SV-HOLIDAY-GATHERING-DECEMBER-11-2025
DTSTART;TZID=America/Los_Angeles:20251211T170025
DTEND;TZID=America/Los_Angeles:20251211T200025
STATUS:CONFIRMED
SUMMARY:ACG SV Holiday Gathering\, December 11\, 2025
DESCRIPTION:
LOCATION:Ludwig's Biergarten\n383 Castro Street\nMountain View\\, CA 94041
URL:https://www.acg.org/sv/events/acg-sv-holiday-gathering-december-11-2025
DTSTAMP:20260420T132013Z
END:VEVENT
END:VCALENDAR
