BEGIN:VCALENDAR
VERSION:2.0
PRODID:-//ACG//Events//EN
CALSCALE:GREGORIAN
METHOD:PUBLISH
BEGIN:VTIMEZONE
TZID:America/Chicago
BEGIN:STANDARD
DTSTART:19701025T070000
TZOFFSETTO:-0600
TZOFFSETFROM:-0500
RRULE:FREQ=YEARLY;BYMONTH=11;BYDAY=1SU
END:STANDARD
BEGIN:DAYLIGHT
DTSTART:19700426T080000
TZOFFSETTO:-0500
TZOFFSETFROM:-0600
RRULE:FREQ=YEARLY;BYMONTH=3;BYDAY=2SU
END:DAYLIGHT
END:VTIMEZONE
BEGIN:VEVENT
UID:2025-ACG-NEXT-CRYPTOCURRENCY-AT-THE-CROSSROADS
DTSTART;TZID=America/Chicago:20251121T113032
DTEND;TZID=America/Chicago:20251121T130045
STATUS:CONFIRMED
SUMMARY:2025 ACG Next Cryptocurrency at the Crossroads
DESCRIPTION:
LOCATION:Mission Hills Country Club\n5400 Mission Drive\nMission Hills
 \\, KS 66208
URL:https://www.acg.org/kc/events/2025-acg-next-cryptocurrency-crossroads
DTSTAMP:20260420T162424Z
END:VEVENT
END:VCALENDAR
