BEGIN:VCALENDAR
VERSION:2.0
PRODID:-//ACG//Events//EN
CALSCALE:GREGORIAN
METHOD:PUBLISH
BEGIN:VTIMEZONE
TZID:America/Chicago
BEGIN:STANDARD
DTSTART:19701025T070000
TZOFFSETTO:-0600
TZOFFSETFROM:-0500
RRULE:FREQ=YEARLY;BYMONTH=11;BYDAY=1SU
END:STANDARD
BEGIN:DAYLIGHT
DTSTART:19700426T080000
TZOFFSETTO:-0500
TZOFFSETFROM:-0600
RRULE:FREQ=YEARLY;BYMONTH=3;BYDAY=2SU
END:DAYLIGHT
END:VTIMEZONE
BEGIN:VEVENT
UID:2025-ACG-KC-WOMEN-S-HOLIDAY-COFFEE
DTSTART;TZID=America/Chicago:20251211T083027
DTEND;TZID=America/Chicago:20251211T093037
STATUS:CONFIRMED
SUMMARY:2025 ACG KC Women's Holiday Coffee
DESCRIPTION:
LOCATION:Stinson\n1201 Walnut Street\nKansas City\\, MO 64106
URL:https://www.acg.org/kc/events/2025-acg-kc-womens-holiday-coffee
DTSTAMP:20260420T151019Z
END:VEVENT
END:VCALENDAR
