BEGIN:VCALENDAR
VERSION:2.0
PRODID:-//ACG//Events//EN
CALSCALE:GREGORIAN
METHOD:PUBLISH
BEGIN:VTIMEZONE
TZID:America/New_York
BEGIN:STANDARD
DTSTART:19701025T060000
TZOFFSETTO:-0500
TZOFFSETFROM:-0400
RRULE:FREQ=YEARLY;BYMONTH=11;BYDAY=1SU
END:STANDARD
BEGIN:DAYLIGHT
DTSTART:19700426T070000
TZOFFSETTO:-0400
TZOFFSETFROM:-0500
RRULE:FREQ=YEARLY;BYMONTH=3;BYDAY=2SU
END:DAYLIGHT
END:VTIMEZONE
BEGIN:VEVENT
UID:2026-ACG-BOSTON-PE-TO-PE-DEALSOURCE-BY-INVITE
DTSTART;TZID=America/New_York:20260121T080015
DTEND;TZID=America/New_York:20260121T140028
STATUS:CONFIRMED
SUMMARY:2026 ACG Boston: PE to PE DealSource (by invite)
DESCRIPTION:
LOCATION:Nutter McClennen & Fish\n155 Seaport Boulevard\nBoston\\, MA 02110
URL:https://www.acg.org/boston/events/2026-acg-boston-pe-pe-dealsource
 -invite
DTSTAMP:20260420T111625Z
END:VEVENT
END:VCALENDAR
