BEGIN:VCALENDAR
VERSION:2.0
PRODID:-//ACG//Events//EN
CALSCALE:GREGORIAN
METHOD:PUBLISH
BEGIN:VTIMEZONE
TZID:America/Chicago
BEGIN:STANDARD
DTSTART:19701025T070000
TZOFFSETTO:-0600
TZOFFSETFROM:-0500
RRULE:FREQ=YEARLY;BYMONTH=11;BYDAY=1SU
END:STANDARD
BEGIN:DAYLIGHT
DTSTART:19700426T080000
TZOFFSETTO:-0500
TZOFFSETFROM:-0600
RRULE:FREQ=YEARLY;BYMONTH=3;BYDAY=2SU
END:DAYLIGHT
END:VTIMEZONE
BEGIN:VEVENT
UID:2025-NOVEMBER-6TH-ACG-ASA-NEXTGEN-S-COFFEE-MEET-UP-IN-S-A
DTSTART;TZID=America/Chicago:20251106T080013
DTEND;TZID=America/Chicago:20251106T100044
STATUS:CONFIRMED
SUMMARY:2025 November 6th ACG ASA NextGen's Coffee Meet-Up in S.A.
DESCRIPTION:
LOCATION:Estancia Del Norte Hotel\n37 Northeast Interstate 410 Loop\nS
 an Antonio\\, TX 78216
URL:https://www.acg.org/asa/events/2025-november-6th-acg-asa-nextgens-
 coffee-meet-sa
DTSTAMP:20260420T210003Z
END:VEVENT
END:VCALENDAR
