BEGIN:VCALENDAR
VERSION:2.0
PRODID:-//ACG//Events//EN
CALSCALE:GREGORIAN
METHOD:PUBLISH
BEGIN:VTIMEZONE
TZID:America/New_York
BEGIN:STANDARD
DTSTART:19701025T060000
TZOFFSETTO:-0500
TZOFFSETFROM:-0400
RRULE:FREQ=YEARLY;BYMONTH=11;BYDAY=1SU
END:STANDARD
BEGIN:DAYLIGHT
DTSTART:19700426T070000
TZOFFSETTO:-0400
TZOFFSETFROM:-0500
RRULE:FREQ=YEARLY;BYMONTH=3;BYDAY=2SU
END:DAYLIGHT
END:VTIMEZONE
BEGIN:VEVENT
UID:2025-ACG-NATIONAL-CAPITAL-GOLF-AND-PICKLEBALL-TOURNAMENT-MULLIGAN-
 TICKETS
DTSTART;TZID=America/New_York:20251020T090005
DTEND;TZID=America/New_York:20251021T210005
STATUS:CONFIRMED
SUMMARY:2025 ACG National Capital Golf and Pickleball Tournament - Mul
 ligan Tickets
DESCRIPTION:
URL:https://www.acg.org/national-capital/events/2025-acg-national-capi
 tal-golf-and-pickleball-tournament-mulligan-tickets
DTSTAMP:20260421T005041Z
END:VEVENT
END:VCALENDAR
