BEGIN:VCALENDAR
VERSION:2.0
PRODID:-//ACG//Events//EN
CALSCALE:GREGORIAN
METHOD:PUBLISH
BEGIN:VTIMEZONE
TZID:America/Chicago
BEGIN:STANDARD
DTSTART:19701025T070000
TZOFFSETTO:-0600
TZOFFSETFROM:-0500
RRULE:FREQ=YEARLY;BYMONTH=11;BYDAY=1SU
END:STANDARD
BEGIN:DAYLIGHT
DTSTART:19700426T080000
TZOFFSETTO:-0500
TZOFFSETFROM:-0600
RRULE:FREQ=YEARLY;BYMONTH=3;BYDAY=2SU
END:DAYLIGHT
END:VTIMEZONE
BEGIN:VEVENT
UID:2025-ACG-ASA-NOVEMBER-12TH-LUNCH
DTSTART;TZID=America/Chicago:20251112T111554
DTEND;TZID=America/Chicago:20251112T130009
STATUS:CONFIRMED
SUMMARY:2025 ACG ASA November 12th Lunch
DESCRIPTION:
LOCATION:Westwood Country Club\n3808 West 35th Street\nAustin\\, TX 78703
URL:https://www.acg.org/asa/events/2025-acg-asa-november-12th-lunch
DTSTAMP:20260420T203749Z
END:VEVENT
END:VCALENDAR
