BEGIN:VCALENDAR
VERSION:2.0
PRODID:-//ACG//Events//EN
CALSCALE:GREGORIAN
METHOD:PUBLISH
BEGIN:VTIMEZONE
TZID:America/Los_Angeles
BEGIN:STANDARD
DTSTART:19701025T090000
TZOFFSETTO:-0800
TZOFFSETFROM:-0700
RRULE:FREQ=YEARLY;BYMONTH=11;BYDAY=1SU
END:STANDARD
BEGIN:DAYLIGHT
DTSTART:19700426T100000
TZOFFSETTO:-0700
TZOFFSETFROM:-0800
RRULE:FREQ=YEARLY;BYMONTH=3;BYDAY=2SU
END:DAYLIGHT
END:VTIMEZONE
BEGIN:VEVENT
UID:148033
DTSTART;TZID=America/Los_Angeles:20251030T173000
DTEND;TZID=America/Los_Angeles:20251030T200000
STATUS:CONFIRMED
SUMMARY:NorCal NextGen Topgolf 2025
DESCRIPTION:
LOCATION:Topgolf Burlingame\n
URL:https://www.acg.org/sanfrancisco/events/norcal-nextgen-topgolf-2025
DTSTAMP:20260420T210013Z
END:VEVENT
END:VCALENDAR
