BEGIN:VCALENDAR
VERSION:2.0
PRODID:-//ACG//Events//EN
CALSCALE:GREGORIAN
METHOD:PUBLISH
BEGIN:VTIMEZONE
TZID:America/New_York
BEGIN:STANDARD
DTSTART:19701025T060000
TZOFFSETTO:-0500
TZOFFSETFROM:-0400
RRULE:FREQ=YEARLY;BYMONTH=11;BYDAY=1SU
END:STANDARD
BEGIN:DAYLIGHT
DTSTART:19700426T070000
TZOFFSETTO:-0400
TZOFFSETFROM:-0500
RRULE:FREQ=YEARLY;BYMONTH=3;BYDAY=2SU
END:DAYLIGHT
END:VTIMEZONE
BEGIN:VEVENT
UID:2025-FLORIDA-ACG-CAPITAL-CONNECTION-EXTRA
DTSTART;TZID=America/New_York:20251104T140017
DTEND;TZID=America/New_York:20251106T120017
STATUS:CONFIRMED
SUMMARY:2025 Florida ACG Capital Connection Extra
DESCRIPTION:
URL:https://www.acg.org/florida/events/2025-florida-acg-capital-connec
 tion-extra
DTSTAMP:20260420T204554Z
END:VEVENT
END:VCALENDAR
