BEGIN:VCALENDAR
VERSION:2.0
PRODID:-//ACG//Events//EN
CALSCALE:GREGORIAN
METHOD:PUBLISH
BEGIN:VTIMEZONE
TZID:Europe/Madrid
BEGIN:STANDARD
DTSTART:19700101T060000
TZOFFSETTO:+0100
TZOFFSETFROM:+0100
END:STANDARD
END:VTIMEZONE
BEGIN:VEVENT
UID:148130
DTSTART;TZID=Europe/Madrid:20251109T093000
DTEND;TZID=Europe/Madrid:20251109T110000
STATUS:CONFIRMED
SUMMARY:ACG TALKS SUMA CAPITAL
DESCRIPTION:
LOCATION:SUMA CAPITAL\nAv. Diagonal 64
URL:https://www.acg.org/spain/events/acg-talks-suma-capital
DTSTAMP:20260420T204619Z
END:VEVENT
END:VCALENDAR
