BEGIN:VCALENDAR
VERSION:2.0
PRODID:-//ACG//Events//EN
CALSCALE:GREGORIAN
METHOD:PUBLISH
BEGIN:VTIMEZONE
TZID:America/Vancouver
BEGIN:STANDARD
DTSTART:19701025T090000
TZOFFSETTO:-0800
TZOFFSETFROM:-0700
RRULE:FREQ=YEARLY;BYMONTH=11;BYDAY=1SU
END:STANDARD
BEGIN:DAYLIGHT
DTSTART:19700426T100000
TZOFFSETTO:-0700
TZOFFSETFROM:-0800
RRULE:FREQ=YEARLY;BYMONTH=3;BYDAY=2SU
END:DAYLIGHT
END:VTIMEZONE
BEGIN:VEVENT
UID:148178
DTSTART;TZID=America/Vancouver:20251113T090000
DTEND;TZID=America/Vancouver:20251113T110000
STATUS:CONFIRMED
SUMMARY:ACG BC Presents: Distinguished Speaker Series - A Members ONLY
  event.
DESCRIPTION:
LOCATION:KPMG Ignition Centre\, 12th floor\nKPMG\n777 Dunsmuir street\
 nVancouver\\, BC V7Y 1K3
URL:https://www.acg.org/bc/events/acg-bc-presents-distinguished-speake
 r-series-members-only-event
DTSTAMP:20260420T183931Z
END:VEVENT
END:VCALENDAR
