BEGIN:VCALENDAR
VERSION:2.0
PRODID:-//ACG//Events//EN
CALSCALE:GREGORIAN
METHOD:PUBLISH
BEGIN:VTIMEZONE
TZID:America/Los_Angeles
BEGIN:STANDARD
DTSTART:19701025T090000
TZOFFSETTO:-0800
TZOFFSETFROM:-0700
RRULE:FREQ=YEARLY;BYMONTH=11;BYDAY=1SU
END:STANDARD
BEGIN:DAYLIGHT
DTSTART:19700426T100000
TZOFFSETTO:-0700
TZOFFSETFROM:-0800
RRULE:FREQ=YEARLY;BYMONTH=3;BYDAY=2SU
END:DAYLIGHT
END:VTIMEZONE
BEGIN:VEVENT
UID:ACG-101-WOMEN-OF-ACG-101-CANVAS-CONNECTIONS-EVENT
DTSTART;TZID=America/Los_Angeles:20260129T173053
DTEND;TZID=America/Los_Angeles:20260129T200027
STATUS:CONFIRMED
SUMMARY:Jan 29th 2026 Women of ACG 101 Canvas & Connections Event
DESCRIPTION:
LOCATION:Pinots Palette\n168 West Green Street\nPasadena\\, CA 91105
URL:https://www.acg.org/101/events/jan-29th-2026-women-acg-101-canvas-
 connections-event
DTSTAMP:20260420T130507Z
END:VEVENT
END:VCALENDAR
