BEGIN:VCALENDAR
VERSION:2.0
PRODID:-//ACG//Events//EN
CALSCALE:GREGORIAN
METHOD:PUBLISH
BEGIN:VTIMEZONE
TZID:America/Vancouver
BEGIN:STANDARD
DTSTART:19701025T090000
TZOFFSETTO:-0800
TZOFFSETFROM:-0700
RRULE:FREQ=YEARLY;BYMONTH=11;BYDAY=1SU
END:STANDARD
BEGIN:DAYLIGHT
DTSTART:19700426T100000
TZOFFSETTO:-0700
TZOFFSETFROM:-0800
RRULE:FREQ=YEARLY;BYMONTH=3;BYDAY=2SU
END:DAYLIGHT
END:VTIMEZONE
BEGIN:VEVENT
UID:148190
DTSTART;TZID=America/Vancouver:20251126T173000
DTEND;TZID=America/Vancouver:20251126T203000
STATUS:CONFIRMED
SUMMARY:ACG BC Presents: Member Appreciation Cocktail Event
DESCRIPTION:
LOCATION:JOEY Bentall ONE\n507 Burrard Street\nVancouver\\, BC V7X 8A8
URL:https://www.acg.org/bc/events/acg-bc-presents-member-appreciation-
 cocktail-event
DTSTAMP:20260420T163036Z
END:VEVENT
END:VCALENDAR
