BEGIN:VCALENDAR
VERSION:2.0
PRODID:-//ACG//Events//EN
CALSCALE:GREGORIAN
METHOD:PUBLISH
BEGIN:VTIMEZONE
TZID:Europe/Berlin
BEGIN:STANDARD
DTSTART:19700101T060000
TZOFFSETTO:+0100
TZOFFSETFROM:+0100
END:STANDARD
END:VTIMEZONE
BEGIN:VEVENT
UID:148193
DTSTART;TZID=Europe/Berlin:20251127T120000
DTEND;TZID=Europe/Berlin:20251127T130000
STATUS:CONFIRMED
SUMMARY:ACG Germany Virtual Deal Source - Tech
DESCRIPTION:
LOCATION:Online\n
URL:https://www.acg.org/germany/events/acg-germany-virtual-deal-source-tech
DTSTAMP:20260420T162402Z
END:VEVENT
END:VCALENDAR
