BEGIN:VCALENDAR
VERSION:2.0
PRODID:-//ACG//Events//EN
CALSCALE:GREGORIAN
METHOD:PUBLISH
BEGIN:VTIMEZONE
TZID:America/New_York
BEGIN:STANDARD
DTSTART:19701025T060000
TZOFFSETTO:-0500
TZOFFSETFROM:-0400
RRULE:FREQ=YEARLY;BYMONTH=11;BYDAY=1SU
END:STANDARD
BEGIN:DAYLIGHT
DTSTART:19700426T070000
TZOFFSETTO:-0400
TZOFFSETFROM:-0500
RRULE:FREQ=YEARLY;BYMONTH=3;BYDAY=2SU
END:DAYLIGHT
END:VTIMEZONE
BEGIN:VEVENT
UID:ACG-ATLANTA-2025-END-OF-YEAR-MARKET-UPDATE
DTSTART;TZID=America/New_York:20251216T110035
DTEND;TZID=America/New_York:20251216T130015
STATUS:CONFIRMED
SUMMARY:ACG Atlanta presents: 2025 End of Year Market Update Luncheon
DESCRIPTION:
LOCATION:Buckhead Club\n3344 Peachtree Road\nAtlanta\\, GA 30326
URL:https://www.acg.org/atlanta/events/acg-atlanta-presents-2025-end-y
 ear-market-update-luncheon
DTSTAMP:20260420T130507Z
END:VEVENT
END:VCALENDAR
