BEGIN:VCALENDAR
VERSION:2.0
PRODID:-//ACG//Events//EN
CALSCALE:GREGORIAN
METHOD:PUBLISH
BEGIN:VTIMEZONE
TZID:America/Chicago
BEGIN:STANDARD
DTSTART:19701025T070000
TZOFFSETTO:-0600
TZOFFSETFROM:-0500
RRULE:FREQ=YEARLY;BYMONTH=11;BYDAY=1SU
END:STANDARD
BEGIN:DAYLIGHT
DTSTART:19700426T080000
TZOFFSETTO:-0500
TZOFFSETFROM:-0600
RRULE:FREQ=YEARLY;BYMONTH=3;BYDAY=2SU
END:DAYLIGHT
END:VTIMEZONE
BEGIN:VEVENT
UID:2026-ACG-KC-ANNUAL-SPONSORSHIP
DTSTART;TZID=America/Chicago:20251029T150019
DTEND;TZID=America/Chicago:20261231T150025
STATUS:CONFIRMED
SUMMARY:2026 ACG KC Annual Sponsorship
DESCRIPTION:
URL:https://www.acg.org/kc/events/2026-acg-kc-annual-sponsorship
DTSTAMP:20260420T224820Z
END:VEVENT
END:VCALENDAR
