BEGIN:VCALENDAR
VERSION:2.0
PRODID:-//ACG//Events//EN
CALSCALE:GREGORIAN
METHOD:PUBLISH
BEGIN:VTIMEZONE
TZID:America/New_York
BEGIN:STANDARD
DTSTART:19701025T060000
TZOFFSETTO:-0500
TZOFFSETFROM:-0400
RRULE:FREQ=YEARLY;BYMONTH=11;BYDAY=1SU
END:STANDARD
BEGIN:DAYLIGHT
DTSTART:19700426T070000
TZOFFSETTO:-0400
TZOFFSETFROM:-0500
RRULE:FREQ=YEARLY;BYMONTH=3;BYDAY=2SU
END:DAYLIGHT
END:VTIMEZONE
BEGIN:VEVENT
UID:GIVE-BACK-GATHER-NEXTGEN-VOLUNTEERING-AND-HOLIDAY-HAPPY-HOUR
DTSTART;TZID=America/New_York:20251212T140000
DTEND;TZID=America/New_York:20251212T160000
STATUS:CONFIRMED
SUMMARY:Give Back & Gather: NextGen Volunteering and Holiday Happy Hour
DESCRIPTION:
LOCATION:DC Central Kitchen\n2121 1st Street Southwest\nWashington\\, 
 DC 20024
URL:https://www.acg.org/national-capital/events/give-back-gather-nextg
 en-volunteering-and-holiday-happy-hour
DTSTAMP:20260420T150809Z
END:VEVENT
END:VCALENDAR
