BEGIN:VCALENDAR
VERSION:2.0
PRODID:-//ACG//Events//EN
CALSCALE:GREGORIAN
METHOD:PUBLISH
BEGIN:VTIMEZONE
TZID:Europe/Madrid
BEGIN:STANDARD
DTSTART:19700101T060000
TZOFFSETTO:+0100
TZOFFSETFROM:+0100
END:STANDARD
END:VTIMEZONE
BEGIN:VEVENT
UID:148300
DTSTART;TZID=Europe/Madrid:20251127T203000
DTEND;TZID=Europe/Madrid:20251127T223000
STATUS:CONFIRMED
SUMMARY:CENA SOCIAL 2025
DESCRIPTION:
LOCATION:Real Club de Polo Barcelona\nAv. Dr. Marañón\, 19-31
URL:https://www.acg.org/spain/events/cena-social-2025
DTSTAMP:20260420T170037Z
END:VEVENT
END:VCALENDAR
