BEGIN:VCALENDAR
VERSION:2.0
PRODID:-//ACG//Events//EN
CALSCALE:GREGORIAN
METHOD:PUBLISH
BEGIN:VTIMEZONE
TZID:America/New_York
BEGIN:STANDARD
DTSTART:19701025T060000
TZOFFSETTO:-0500
TZOFFSETFROM:-0400
RRULE:FREQ=YEARLY;BYMONTH=11;BYDAY=1SU
END:STANDARD
BEGIN:DAYLIGHT
DTSTART:19700426T070000
TZOFFSETTO:-0400
TZOFFSETFROM:-0500
RRULE:FREQ=YEARLY;BYMONTH=3;BYDAY=2SU
END:DAYLIGHT
END:VTIMEZONE
BEGIN:VEVENT
UID:ACG-CHARLESTON-HOLIDAY-BREAKFAST-MINGLE
DTSTART;TZID=America/New_York:20251211T083004
DTEND;TZID=America/New_York:20251211T100023
STATUS:CONFIRMED
SUMMARY:ACG Charleston Holiday Breakfast & Mingle
DESCRIPTION:
LOCATION:22 Westedge St Suite 700\, Charleston\, SC 29403\n22 Westedge
  Street\nCharleston\\, SC 29403
URL:https://www.acg.org/charleston/events/acg-charleston-holiday-break
 fast-mingle
DTSTAMP:20260420T131838Z
END:VEVENT
END:VCALENDAR
