BEGIN:VCALENDAR
VERSION:2.0
PRODID:-//ACG//Events//EN
CALSCALE:GREGORIAN
METHOD:PUBLISH
BEGIN:VTIMEZONE
TZID:America/Detroit
BEGIN:STANDARD
DTSTART:19700101T060000
TZOFFSETTO:-0500
TZOFFSETFROM:-0500
END:STANDARD
END:VTIMEZONE
BEGIN:VEVENT
UID:011326-KNOXVILLE-LUNCH-AND-LEARN
DTSTART;TZID=America/Detroit:20260113T113040
DTEND;TZID=America/Detroit:20260113T130040
STATUS:CONFIRMED
SUMMARY:011326 ACG TN Knoxville Lunch and Learn
DESCRIPTION:
URL:https://www.acg.org/tennessee/events/011326-acg-tn-knoxville-lunch
 -and-learn
DTSTAMP:20260420T111509Z
END:VEVENT
END:VCALENDAR
