BEGIN:VCALENDAR
VERSION:2.0
PRODID:-//ACG//Events//EN
CALSCALE:GREGORIAN
METHOD:PUBLISH
BEGIN:VTIMEZONE
TZID:America/New_York
BEGIN:STANDARD
DTSTART:19701025T060000
TZOFFSETTO:-0500
TZOFFSETFROM:-0400
RRULE:FREQ=YEARLY;BYMONTH=11;BYDAY=1SU
END:STANDARD
BEGIN:DAYLIGHT
DTSTART:19700426T070000
TZOFFSETTO:-0400
TZOFFSETFROM:-0500
RRULE:FREQ=YEARLY;BYMONTH=3;BYDAY=2SU
END:DAYLIGHT
END:VTIMEZONE
BEGIN:VEVENT
UID:DEAL-SPOTLIGHT-COMMERCIAL-RESIDENTIAL-ALUMINUM-FABRICATING-SARASOTA
DTSTART;TZID=America/New_York:20260121T173034
DTEND;TZID=America/New_York:20260121T200034
STATUS:CONFIRMED
SUMMARY:Inside the CRA Acquisition: ACG TB Members Driving Success
DESCRIPTION:
LOCATION:GROVE\n10670 Boardwalk Loop\nLakewood Ranch\\, FL 34202
URL:https://www.acg.org/tampabay/events/inside-cra-acquisition-acg-tb-
 members-driving-success
DTSTAMP:20260420T111544Z
END:VEVENT
END:VCALENDAR
