BEGIN:VCALENDAR
VERSION:2.0
PRODID:-//ACG//Events//EN
CALSCALE:GREGORIAN
METHOD:PUBLISH
BEGIN:VTIMEZONE
TZID:US/Eastern
BEGIN:STANDARD
DTSTART:19701025T060000
TZOFFSETTO:-0500
TZOFFSETFROM:-0400
RRULE:FREQ=YEARLY;BYMONTH=11;BYDAY=1SU
END:STANDARD
BEGIN:DAYLIGHT
DTSTART:19700426T070000
TZOFFSETTO:-0400
TZOFFSETFROM:-0500
RRULE:FREQ=YEARLY;BYMONTH=3;BYDAY=2SU
END:DAYLIGHT
END:VTIMEZONE
BEGIN:VEVENT
UID:3RD-ANNUAL-PICKLEBALL-MIXER-MA-SOUTH-2026
DTSTART;TZID=US/Eastern:20260202T110017
DTEND;TZID=US/Eastern:20260202T130044
STATUS:CONFIRMED
SUMMARY:3rd Annual Pickleball Mixer at M&A South 2026
DESCRIPTION:
LOCATION:Atlanta Athletic Club\n1930 Bobby Jones Drive\nJohns Creek\\,
  GA 30097
URL:https://www.acg.org/atlanta/events/3rd-annual-pickleball-mixer-ma-
 south-2026
DTSTAMP:20260423T215217Z
END:VEVENT
END:VCALENDAR
