BEGIN:VCALENDAR
VERSION:2.0
PRODID:-//ACG//Events//EN
CALSCALE:GREGORIAN
METHOD:PUBLISH
BEGIN:VTIMEZONE
TZID:America/New_York
BEGIN:STANDARD
DTSTART:19701025T060000
TZOFFSETTO:-0500
TZOFFSETFROM:-0400
RRULE:FREQ=YEARLY;BYMONTH=11;BYDAY=1SU
END:STANDARD
BEGIN:DAYLIGHT
DTSTART:19700426T070000
TZOFFSETTO:-0400
TZOFFSETFROM:-0500
RRULE:FREQ=YEARLY;BYMONTH=3;BYDAY=2SU
END:DAYLIGHT
END:VTIMEZONE
BEGIN:VEVENT
UID:2026-ACG-NY-DEALMAKER-DEALSOURCE-MARCH-EDITION
DTSTART;TZID=America/New_York:20260312T180042
DTEND;TZID=America/New_York:20260312T200042
STATUS:CONFIRMED
SUMMARY:2026 ACG NY DealMaker Series – Spring Edition
DESCRIPTION:
LOCATION:Michael's Restaurant\n24 West 55th Street\nNew York\\, NY 10019
URL:https://www.acg.org/nyc/events/2026-acg-ny-dealmaker-series-spring
 -edition
DTSTAMP:20260422T211530Z
END:VEVENT
END:VCALENDAR
