BEGIN:VCALENDAR
VERSION:2.0
PRODID:-//ACG//Events//EN
CALSCALE:GREGORIAN
METHOD:PUBLISH
BEGIN:VTIMEZONE
TZID:America/New_York
BEGIN:STANDARD
DTSTART:19701025T060000
TZOFFSETTO:-0500
TZOFFSETFROM:-0400
RRULE:FREQ=YEARLY;BYMONTH=11;BYDAY=1SU
END:STANDARD
BEGIN:DAYLIGHT
DTSTART:19700426T070000
TZOFFSETTO:-0400
TZOFFSETFROM:-0500
RRULE:FREQ=YEARLY;BYMONTH=3;BYDAY=2SU
END:DAYLIGHT
END:VTIMEZONE
BEGIN:VEVENT
UID:ACG-NJ-IN-HOUSE-FORUM-NOVEMBER-2026
DTSTART;TZID=America/New_York:20261111T173045
DTEND;TZID=America/New_York:20261111T203045
STATUS:CONFIRMED
SUMMARY:ACG NJ In-House Forum | November 11\, 2026
DESCRIPTION:
URL:https://www.acg.org/newjersey/events/acg-nj-house-forum-november-1
 1-2026
DTSTAMP:20260422T092708Z
END:VEVENT
END:VCALENDAR
