BEGIN:VCALENDAR
VERSION:2.0
PRODID:-//ACG//Events//EN
CALSCALE:GREGORIAN
METHOD:PUBLISH
BEGIN:VTIMEZONE
TZID:America/New_York
BEGIN:STANDARD
DTSTART:19701025T060000
TZOFFSETTO:-0500
TZOFFSETFROM:-0400
RRULE:FREQ=YEARLY;BYMONTH=11;BYDAY=1SU
END:STANDARD
BEGIN:DAYLIGHT
DTSTART:19700426T070000
TZOFFSETTO:-0400
TZOFFSETFROM:-0500
RRULE:FREQ=YEARLY;BYMONTH=3;BYDAY=2SU
END:DAYLIGHT
END:VTIMEZONE
BEGIN:VEVENT
UID:ACG-NJ-IN-HOUSE-FORUM-JUNE-2027
DTSTART;TZID=America/New_York:20270602T173049
DTEND;TZID=America/New_York:20270602T203049
STATUS:CONFIRMED
SUMMARY:ACG NJ In-House Forum | June 2\, 2027
DESCRIPTION:
URL:https://www.acg.org/newjersey/events/acg-nj-house-forum-june-2-2027
DTSTAMP:20260420T234918Z
END:VEVENT
END:VCALENDAR
