BEGIN:VCALENDAR
VERSION:2.0
PRODID:-//ACG//Events//EN
CALSCALE:GREGORIAN
METHOD:PUBLISH
BEGIN:VTIMEZONE
TZID:America/Phoenix
BEGIN:STANDARD
DTSTART:19700101T060000
TZOFFSETTO:-0700
TZOFFSETFROM:-0700
END:STANDARD
END:VTIMEZONE
BEGIN:VEVENT
UID:2025-ARIZONA-YOUNG-DEALMAKERS-DECK-THE-DEALS-HAPPY-HOUR
DTSTART;TZID=America/Phoenix:20251216T163051
DTEND;TZID=America/Phoenix:20251216T183002
STATUS:CONFIRMED
SUMMARY:2025 Arizona Young Dealmakers "Deck the Deals" Happy Hour
DESCRIPTION:
URL:https://www.acg.org/arizona/events/2025-arizona-young-dealmakers-d
 eck-deals-happy-hour
DTSTAMP:20260420T130508Z
END:VEVENT
END:VCALENDAR
