BEGIN:VCALENDAR
VERSION:2.0
PRODID:-//ACG//Events//EN
CALSCALE:GREGORIAN
METHOD:PUBLISH
BEGIN:VTIMEZONE
TZID:America/Indiana/Indianapolis
BEGIN:STANDARD
DTSTART:19701025T060000
TZOFFSETTO:-0500
TZOFFSETFROM:-0400
RRULE:FREQ=YEARLY;BYMONTH=11;BYDAY=1SU
END:STANDARD
BEGIN:DAYLIGHT
DTSTART:19700426T070000
TZOFFSETTO:-0400
TZOFFSETFROM:-0500
RRULE:FREQ=YEARLY;BYMONTH=3;BYDAY=2SU
END:DAYLIGHT
END:VTIMEZONE
BEGIN:VEVENT
UID:148464
DTSTART;TZID=America/Indiana/Indianapolis:20251203T181500
DTEND;TZID=America/Indiana/Indianapolis:20251203T210000
STATUS:CONFIRMED
SUMMARY:Pacers vs. Nuggets (MEMBER ONLY EVENT)
DESCRIPTION:
LOCATION:Gainbridge Fieldhouse\n
URL:https://www.acg.org/indiana/events/pacers-vs-nuggets-member-only-event
DTSTAMP:20260420T150840Z
END:VEVENT
END:VCALENDAR
