BEGIN:VCALENDAR
VERSION:2.0
PRODID:-//ACG//Events//EN
CALSCALE:GREGORIAN
METHOD:PUBLISH
BEGIN:VTIMEZONE
TZID:America/Los_Angeles
BEGIN:STANDARD
DTSTART:19701025T090000
TZOFFSETTO:-0800
TZOFFSETFROM:-0700
RRULE:FREQ=YEARLY;BYMONTH=11;BYDAY=1SU
END:STANDARD
BEGIN:DAYLIGHT
DTSTART:19700426T100000
TZOFFSETTO:-0700
TZOFFSETFROM:-0800
RRULE:FREQ=YEARLY;BYMONTH=3;BYDAY=2SU
END:DAYLIGHT
END:VTIMEZONE
BEGIN:VEVENT
UID:ACGIE-NEXTGEN-HOLIDAY-PRE-GAME-AT-EUROPA-VILLAGE-12-18-2025
DTSTART;TZID=America/Los_Angeles:20251218T160023
DTEND;TZID=America/Los_Angeles:20251218T170023
STATUS:CONFIRMED
SUMMARY:ACGIE | NextGen Holiday Pre-game at Europa Village | 12.18.2025
DESCRIPTION:
LOCATION:Europa Village Wineries & Resort\n41150 Via Europa\nTemecula\
 \, CA 92591
URL:https://www.acg.org/inlandempire/events/acgie-nextgen-holiday-pre-
 game-europa-village-12182025
DTSTAMP:20260420T145331Z
END:VEVENT
END:VCALENDAR
