BEGIN:VCALENDAR
VERSION:2.0
PRODID:-//ACG//Events//EN
CALSCALE:GREGORIAN
METHOD:PUBLISH
BEGIN:VTIMEZONE
TZID:America/Detroit
BEGIN:STANDARD
DTSTART:19700101T060000
TZOFFSETTO:-0500
TZOFFSETFROM:-0500
END:STANDARD
END:VTIMEZONE
BEGIN:VEVENT
UID:040826-KNOXVILLE-LUNCH-LEARN
DTSTART;TZID=America/Detroit:20260408T113000
DTEND;TZID=America/Detroit:20260408T130000
STATUS:CONFIRMED
SUMMARY:040826 Knoxville Lunch & Learn
DESCRIPTION:
LOCATION:Rodefer Moss 608 Mabry Hood Road\, Knoxville\, TN 37932\n608 
 Mabry Hood Road\nKnoxville\\, TN 37932
URL:https://www.acg.org/tennessee/events/040826-knoxville-lunch-learn
DTSTAMP:20260419T223250Z
END:VEVENT
END:VCALENDAR
